BEGIN:VCALENDAR
VERSION:2.0
PRODID:-//Euramaterials//NONSGML v1.0//EN
BEGIN:VEVENT
UID:20260424T120000Z-Webinaire EIC 2026 : découvrez les appels à projets européens
DTSTAMP:20260424T120000Z
DTSTART:20260424T120000Z
DTEND:20260424T140000Z
SUMMARY:Webinaire EIC 2026 : découvrez les appels à projets européens
DESCRIPTION:
LOCATION:
END:VEVENT
END:VCALENDAR